BEGIN:VCALENDAR
VERSION:2.0
PRODID:-//Aikikai Sansuikai Spain - ECPv6.15.20//NONSGML v1.0//EN
CALSCALE:GREGORIAN
METHOD:PUBLISH
X-WR-CALNAME:Aikikai Sansuikai Spain
X-ORIGINAL-URL:https://sansuikaispain.com
X-WR-CALDESC:Eventos para Aikikai Sansuikai Spain
REFRESH-INTERVAL;VALUE=DURATION:PT1H
X-Robots-Tag:noindex
X-PUBLISHED-TTL:PT1H
BEGIN:VTIMEZONE
TZID:Europe/Madrid
BEGIN:DAYLIGHT
TZOFFSETFROM:+0100
TZOFFSETTO:+0200
TZNAME:CEST
DTSTART:20240331T010000
END:DAYLIGHT
BEGIN:STANDARD
TZOFFSETFROM:+0200
TZOFFSETTO:+0100
TZNAME:CET
DTSTART:20241027T010000
END:STANDARD
BEGIN:DAYLIGHT
TZOFFSETFROM:+0100
TZOFFSETTO:+0200
TZNAME:CEST
DTSTART:20250330T010000
END:DAYLIGHT
BEGIN:STANDARD
TZOFFSETFROM:+0200
TZOFFSETTO:+0100
TZNAME:CET
DTSTART:20251026T010000
END:STANDARD
BEGIN:DAYLIGHT
TZOFFSETFROM:+0100
TZOFFSETTO:+0200
TZNAME:CEST
DTSTART:20260329T010000
END:DAYLIGHT
BEGIN:STANDARD
TZOFFSETFROM:+0200
TZOFFSETTO:+0100
TZNAME:CET
DTSTART:20261025T010000
END:STANDARD
END:VTIMEZONE
BEGIN:VEVENT
DTSTART;TZID=Europe/Madrid:20250613T190000
DTEND;TZID=Europe/Madrid:20250614T203000
DTSTAMP:20260423T210645
CREATED:20250512T145720Z
LAST-MODIFIED:20260203T212111Z
UID:179-1749841200-1749933000@sansuikaispain.com
SUMMARY:Curso internacional de aikido Tenerife 2025
DESCRIPTION:Curso Internacional de Aikido\nSeminario de Aikido en las Islas Canarias con instructores de Sansuikai España. \nPrograma\n\nViernes 13 de Junio: Sesión de tarde\nSábado 14 de Junio: Clases de mañana y tarde\n\nUbicación\nTenerife\, Islas Canarias \nOrganiza\nAikikai Sansuikai Spain
URL:https://sansuikaispain.com/evento/curso-internacional-de-aikido-tenerife-2025/
LOCATION:Complejo Deportivo la Matanza de Acentejo\, Avenida Tinguaro\, 20\, Santa Cruz de Tenerife\, 38370\, Spain
CATEGORIES:Seminarios
ATTACH;FMTTYPE=image/jpeg:https://sansuikaispain.com/wp-content/uploads/2025/05/Tenerife_2025.jpg
ORGANIZER;CN="Asociaci%C3%B3n Deportiva Kaika Dojo Escuela de Tenerife":MAILTO:kaikadojo@gmail.com
END:VEVENT
END:VCALENDAR