BEGIN:VCALENDAR
VERSION:2.0
PRODID:-//Aikikai Sansuikai Spain - ECPv6.15.20//NONSGML v1.0//EN
CALSCALE:GREGORIAN
METHOD:PUBLISH
X-WR-CALNAME:Aikikai Sansuikai Spain
X-ORIGINAL-URL:https://sansuikaispain.com
X-WR-CALDESC:Eventos para Aikikai Sansuikai Spain
REFRESH-INTERVAL;VALUE=DURATION:PT1H
X-Robots-Tag:noindex
X-PUBLISHED-TTL:PT1H
BEGIN:VTIMEZONE
TZID:Europe/Madrid
BEGIN:DAYLIGHT
TZOFFSETFROM:+0100
TZOFFSETTO:+0200
TZNAME:CEST
DTSTART:20240331T010000
END:DAYLIGHT
BEGIN:STANDARD
TZOFFSETFROM:+0200
TZOFFSETTO:+0100
TZNAME:CET
DTSTART:20241027T010000
END:STANDARD
BEGIN:DAYLIGHT
TZOFFSETFROM:+0100
TZOFFSETTO:+0200
TZNAME:CEST
DTSTART:20250330T010000
END:DAYLIGHT
BEGIN:STANDARD
TZOFFSETFROM:+0200
TZOFFSETTO:+0100
TZNAME:CET
DTSTART:20251026T010000
END:STANDARD
BEGIN:DAYLIGHT
TZOFFSETFROM:+0100
TZOFFSETTO:+0200
TZNAME:CEST
DTSTART:20260329T010000
END:DAYLIGHT
BEGIN:STANDARD
TZOFFSETFROM:+0200
TZOFFSETTO:+0100
TZNAME:CET
DTSTART:20261025T010000
END:STANDARD
END:VTIMEZONE
BEGIN:VEVENT
DTSTART;TZID=Europe/Madrid:20251011T110000
DTEND;TZID=Europe/Madrid:20251012T130000
DTSTAMP:20260423T150850
CREATED:20250616T152433Z
LAST-MODIFIED:20260203T212111Z
UID:199-1760180400-1760274000@sansuikaispain.com
SUMMARY:PETER BERNATH - INTERNATIONAL SEMINAR
DESCRIPTION:Seminario Internacional de Aikido\nPeter Bernath Sensei\, uno de los principales instructores de Aikido en Estados Unidos y miembro destacado de la USAF (United States Aikido Federation). \nPrograma\nSeminario intensivo de Aikido \n\nSábado 11 de Octubre: Clases de mañana y tarde\nDomingo 12 de Octubre: Clase de mañana\n\nUbicación\nAikidojo Terrassa\nTerrassa\, Barcelona \nOrganiza\nAikikai Sansuikai Spain
URL:https://sansuikaispain.com/evento/peter-bernath-international-seminar/
LOCATION:Club natacio terrassa\, Av. de l'Abat Marcet\, S/N\, Terrassa\, Barcelona\, 08225\, Spain
CATEGORIES:Seminarios
ATTACH;FMTTYPE=image/jpeg:https://sansuikaispain.com/wp-content/uploads/2025/05/Terrasa_2025.jpg
ORGANIZER;CN="Aikidojo Terrassa":MAILTO:ricardaikido@gmail.com
END:VEVENT
END:VCALENDAR