BEGIN:VCALENDAR
VERSION:2.0
PRODID:-//Aikikai Sansuikai Spain - ECPv6.15.20//NONSGML v1.0//EN
CALSCALE:GREGORIAN
METHOD:PUBLISH
X-ORIGINAL-URL:https://sansuikaispain.com
X-WR-CALDESC:Eventos para Aikikai Sansuikai Spain
REFRESH-INTERVAL;VALUE=DURATION:PT1H
X-Robots-Tag:noindex
X-PUBLISHED-TTL:PT1H
BEGIN:VTIMEZONE
TZID:Europe/Madrid
BEGIN:DAYLIGHT
TZOFFSETFROM:+0100
TZOFFSETTO:+0200
TZNAME:CEST
DTSTART:20250330T010000
END:DAYLIGHT
BEGIN:STANDARD
TZOFFSETFROM:+0200
TZOFFSETTO:+0100
TZNAME:CET
DTSTART:20251026T010000
END:STANDARD
BEGIN:DAYLIGHT
TZOFFSETFROM:+0100
TZOFFSETTO:+0200
TZNAME:CEST
DTSTART:20260329T010000
END:DAYLIGHT
BEGIN:STANDARD
TZOFFSETFROM:+0200
TZOFFSETTO:+0100
TZNAME:CET
DTSTART:20261025T010000
END:STANDARD
BEGIN:DAYLIGHT
TZOFFSETFROM:+0100
TZOFFSETTO:+0200
TZNAME:CEST
DTSTART:20270328T010000
END:DAYLIGHT
BEGIN:STANDARD
TZOFFSETFROM:+0200
TZOFFSETTO:+0100
TZNAME:CET
DTSTART:20271031T010000
END:STANDARD
END:VTIMEZONE
BEGIN:VEVENT
DTSTART;TZID=Europe/Madrid:20260124T100000
DTEND;TZID=Europe/Madrid:20260125T180000
DTSTAMP:20260423T104933
CREATED:20260203T202900Z
LAST-MODIFIED:20260203T212111Z
UID:296-1769248800-1769364000@sansuikaispain.com
SUMMARY:MEMORIAL YOSHIMITSU YAMADA SENSEI
DESCRIPTION:Memorial Yoshimitsu Yamada Sensei\nEn memoria del gran maestro Yoshimitsu Yamada Sensei\, fundador de Sansuikai Internacional. \nPrograma\nSeminario de Aikido con los principales instructores de Sansuikai España. \nUbicación\nValencia\, España \nInformación\nContactar con Aikikai Sansuikai Spain para más detalles.
URL:https://sansuikaispain.com/evento/memorial-yoshimitsu-yamada-sensei/
ATTACH;FMTTYPE=image/jpeg:https://sansuikaispain.com/wp-content/uploads/2025/05/Valencia_2026.jpg
END:VEVENT
END:VCALENDAR