BEGIN:VCALENDAR
VERSION:2.0
PRODID:-//Aikikai Sansuikai Spain - ECPv6.15.20//NONSGML v1.0//EN
CALSCALE:GREGORIAN
METHOD:PUBLISH
X-ORIGINAL-URL:https://sansuikaispain.com
X-WR-CALDESC:Eventos para Aikikai Sansuikai Spain
REFRESH-INTERVAL;VALUE=DURATION:PT1H
X-Robots-Tag:noindex
X-PUBLISHED-TTL:PT1H
BEGIN:VTIMEZONE
TZID:Europe/Madrid
BEGIN:DAYLIGHT
TZOFFSETFROM:+0100
TZOFFSETTO:+0200
TZNAME:CEST
DTSTART:20250330T010000
END:DAYLIGHT
BEGIN:STANDARD
TZOFFSETFROM:+0200
TZOFFSETTO:+0100
TZNAME:CET
DTSTART:20251026T010000
END:STANDARD
BEGIN:DAYLIGHT
TZOFFSETFROM:+0100
TZOFFSETTO:+0200
TZNAME:CEST
DTSTART:20260329T010000
END:DAYLIGHT
BEGIN:STANDARD
TZOFFSETFROM:+0200
TZOFFSETTO:+0100
TZNAME:CET
DTSTART:20261025T010000
END:STANDARD
BEGIN:DAYLIGHT
TZOFFSETFROM:+0100
TZOFFSETTO:+0200
TZNAME:CEST
DTSTART:20270328T010000
END:DAYLIGHT
BEGIN:STANDARD
TZOFFSETFROM:+0200
TZOFFSETTO:+0100
TZNAME:CET
DTSTART:20271031T010000
END:STANDARD
END:VTIMEZONE
BEGIN:VEVENT
DTSTART;TZID=Europe/Madrid:20260530T103000
DTEND;TZID=Europe/Madrid:20260531T123000
DTSTAMP:20260421T130920
CREATED:20260203T202900Z
LAST-MODIFIED:20260203T233220Z
UID:295-1780137000-1780230600@sansuikaispain.com
SUMMARY:SEMINARIO HAYATO OSAWA SHIHAN 8º DAN
DESCRIPTION:Seminario Internacional de Aikido\nHayato Osawa Shihan\, 8º Dan Aikikai\, Director de Aikikai Sansuikai Internacional\, impartirá un seminario en Mallorca. \nPrograma\n\nSábado 30 de Mayo (mañana): 10:30 – 12:30\nSábado 30 de Mayo (tarde): 17:30 – 19:30\nDomingo 31 de Mayo: 10:30 – 12:30\n\nUbicación\nPolideportivo Municipal Antoni Servera\nCami de Sa Granja nº 27\nPalma de Mallorca\, Illes Balears \nInscripción\nHasta el 30 de abril: 100€\nDespués del 30 de abril: 120€ \nPara registrarse\, escribir al email: aikikaiosawamallorca@tutamail.com \nOrganiza\nAikikai Sansuikai Spain en colaboración con Mallorca Aikido Club
URL:https://sansuikaispain.com/evento/seminario-hayato-osawa-shihan-8o-dan/
LOCATION:Polideportivo Municipal Antoni Servera\, Cami de Sa Granja nº 27\, Palma de Mallorca\, Illes Balears\, Spain
ATTACH;FMTTYPE=image/jpeg:https://sansuikaispain.com/wp-content/uploads/2026/02/Osawa_Mallorca_2026.jpg
END:VEVENT
END:VCALENDAR